BEGIN:VCALENDAR
VERSION:2.0
PRODID:-//Jazzy Joshua&#039;s - ECPv6.15.17.1//NONSGML v1.0//EN
CALSCALE:GREGORIAN
METHOD:PUBLISH
X-WR-CALNAME:Jazzy Joshua&#039;s
X-ORIGINAL-URL:https://www.jazzyjoshuas.com
X-WR-CALDESC:Events for Jazzy Joshua&#039;s
REFRESH-INTERVAL;VALUE=DURATION:PT1H
X-Robots-Tag:noindex
X-PUBLISHED-TTL:PT1H
BEGIN:VTIMEZONE
TZID:America/Los_Angeles
BEGIN:DAYLIGHT
TZOFFSETFROM:-0800
TZOFFSETTO:-0700
TZNAME:PDT
DTSTART:20250309T100000
END:DAYLIGHT
BEGIN:STANDARD
TZOFFSETFROM:-0700
TZOFFSETTO:-0800
TZNAME:PST
DTSTART:20251102T090000
END:STANDARD
BEGIN:DAYLIGHT
TZOFFSETFROM:-0800
TZOFFSETTO:-0700
TZNAME:PDT
DTSTART:20260308T100000
END:DAYLIGHT
BEGIN:STANDARD
TZOFFSETFROM:-0700
TZOFFSETTO:-0800
TZNAME:PST
DTSTART:20261101T090000
END:STANDARD
BEGIN:DAYLIGHT
TZOFFSETFROM:-0800
TZOFFSETTO:-0700
TZNAME:PDT
DTSTART:20270314T100000
END:DAYLIGHT
BEGIN:STANDARD
TZOFFSETFROM:-0700
TZOFFSETTO:-0800
TZNAME:PST
DTSTART:20271107T090000
END:STANDARD
END:VTIMEZONE
BEGIN:VEVENT
DTSTART;TZID=America/Los_Angeles:20260423T000000
DTEND;TZID=America/Los_Angeles:20260831T235900
DTSTAMP:20260423T201855
CREATED:20260423T155839Z
LAST-MODIFIED:20260423T233446Z
UID:1597-1776902400-1788220740@www.jazzyjoshuas.com
SUMMARY:Live Music Event Flyer 4-24-26 thru 8-31-26
DESCRIPTION:
URL:https://www.jazzyjoshuas.com/event/live-music-event-flyer-4-27-26-thru-8-31-26/
LOCATION:WA
ATTACH;FMTTYPE=image/jpeg:https://www.jazzyjoshuas.com/wp-content/uploads/2026/04/MUSIC-4-27-26-THRU-8-31-26.jpg
END:VEVENT
BEGIN:VEVENT
DTSTART;VALUE=DATE:20260424
DTEND;VALUE=DATE:20260902
DTSTAMP:20260423T201855
CREATED:20260423T233931Z
LAST-MODIFIED:20260423T234257Z
UID:1602-1776988800-1788307199@www.jazzyjoshuas.com
SUMMARY:Live Music Events thru 8-31-26
DESCRIPTION:
URL:https://www.jazzyjoshuas.com/event/live-music-events-thru-8-31-26/
LOCATION:Jazzy Joshua’s Restaurant & Lounge\, 113 Del Guzzi Dr\, Port Angeles\, WA\, 98362\, United States
CATEGORIES:Entertainment
ATTACH;FMTTYPE=image/jpeg:https://www.jazzyjoshuas.com/wp-content/uploads/2026/04/MUSIC-4-27-26-THRU-8-31-26.jpg
END:VEVENT
BEGIN:VEVENT
DTSTART;TZID=America/Los_Angeles:20260424T190000
DTEND;TZID=America/Los_Angeles:20260424T210000
DTSTAMP:20260423T201855
CREATED:20260403T032348Z
LAST-MODIFIED:20260423T232408Z
UID:1489-1777057200-1777064400@www.jazzyjoshuas.com
SUMMARY:Ted Hennessy Trio
DESCRIPTION:Click the band name on the splash page for a map with directions to Jazzy Joshua’s & a link to Ted Hennessy’s FB page where you will find additional information & audio/video links that showcase his great talent!
URL:https://www.jazzyjoshuas.com/event/ted-hennessy-trio/
LOCATION:Jazzy Joshua’s Restaurant & Lounge\, 113 Del Guzzi Dr\, Port Angeles\, WA\, 98362\, United States
CATEGORIES:Entertainment
ATTACH;FMTTYPE=image/jpeg:https://www.jazzyjoshuas.com/wp-content/uploads/2026/04/TED-HENNESSY-TRIO.jpg
END:VEVENT
BEGIN:VEVENT
DTSTART;TZID=America/Los_Angeles:20260425T190000
DTEND;TZID=America/Los_Angeles:20260425T210000
DTSTAMP:20260423T201855
CREATED:20260403T032724Z
LAST-MODIFIED:20260423T153648Z
UID:1492-1777143600-1777150800@www.jazzyjoshuas.com
SUMMARY:The Ironhorse Band (Classic R&R and Country)
DESCRIPTION:Click the band name on the splash page for a map with directions to Jazzy Joshua’s & a link to The Ironhorse Band FB page where you will find additional information & audio/video links that showcase their great talent!
URL:https://www.jazzyjoshuas.com/event/the-ironhorse-band-classic-rr-and-country/
LOCATION:Jazzy Joshua’s Restaurant & Lounge\, 113 Del Guzzi Dr\, Port Angeles\, WA\, 98362\, United States
CATEGORIES:Entertainment
ATTACH;FMTTYPE=image/jpeg:https://www.jazzyjoshuas.com/wp-content/uploads/2026/04/Ironhorse-Band.jpg
END:VEVENT
END:VCALENDAR