BEGIN:VCALENDAR
VERSION:2.0
PRODID:-//Jazzy Joshua&#039;s - ECPv6.15.17.1//NONSGML v1.0//EN
CALSCALE:GREGORIAN
METHOD:PUBLISH
X-WR-CALNAME:Jazzy Joshua&#039;s
X-ORIGINAL-URL:https://www.jazzyjoshuas.com
X-WR-CALDESC:Events for Jazzy Joshua&#039;s
REFRESH-INTERVAL;VALUE=DURATION:PT1H
X-Robots-Tag:noindex
X-PUBLISHED-TTL:PT1H
BEGIN:VTIMEZONE
TZID:America/Los_Angeles
BEGIN:DAYLIGHT
TZOFFSETFROM:-0800
TZOFFSETTO:-0700
TZNAME:PDT
DTSTART:20250309T100000
END:DAYLIGHT
BEGIN:STANDARD
TZOFFSETFROM:-0700
TZOFFSETTO:-0800
TZNAME:PST
DTSTART:20251102T090000
END:STANDARD
BEGIN:DAYLIGHT
TZOFFSETFROM:-0800
TZOFFSETTO:-0700
TZNAME:PDT
DTSTART:20260308T100000
END:DAYLIGHT
BEGIN:STANDARD
TZOFFSETFROM:-0700
TZOFFSETTO:-0800
TZNAME:PST
DTSTART:20261101T090000
END:STANDARD
BEGIN:DAYLIGHT
TZOFFSETFROM:-0800
TZOFFSETTO:-0700
TZNAME:PDT
DTSTART:20270314T100000
END:DAYLIGHT
BEGIN:STANDARD
TZOFFSETFROM:-0700
TZOFFSETTO:-0800
TZNAME:PST
DTSTART:20271107T090000
END:STANDARD
END:VTIMEZONE
BEGIN:VEVENT
DTSTART;TZID=America/Los_Angeles:20260423T000000
DTEND;TZID=America/Los_Angeles:20260831T235900
DTSTAMP:20260424T001619
CREATED:20260423T155839Z
LAST-MODIFIED:20260423T233446Z
UID:1597-1776902400-1788220740@www.jazzyjoshuas.com
SUMMARY:Live Music Event Flyer 4-24-26 thru 8-31-26
DESCRIPTION:
URL:https://www.jazzyjoshuas.com/event/live-music-event-flyer-4-27-26-thru-8-31-26/
LOCATION:WA
ATTACH;FMTTYPE=image/jpeg:https://www.jazzyjoshuas.com/wp-content/uploads/2026/04/MUSIC-4-27-26-THRU-8-31-26.jpg
END:VEVENT
BEGIN:VEVENT
DTSTART;VALUE=DATE:20260424
DTEND;VALUE=DATE:20260902
DTSTAMP:20260424T001619
CREATED:20260423T233931Z
LAST-MODIFIED:20260423T234257Z
UID:1602-1776988800-1788307199@www.jazzyjoshuas.com
SUMMARY:Live Music Events thru 8-31-26
DESCRIPTION:
URL:https://www.jazzyjoshuas.com/event/live-music-events-thru-8-31-26/
LOCATION:Jazzy Joshua’s Restaurant & Lounge\, 113 Del Guzzi Dr\, Port Angeles\, WA\, 98362\, United States
CATEGORIES:Entertainment
ATTACH;FMTTYPE=image/jpeg:https://www.jazzyjoshuas.com/wp-content/uploads/2026/04/MUSIC-4-27-26-THRU-8-31-26.jpg
END:VEVENT
BEGIN:VEVENT
DTSTART;TZID=America/Los_Angeles:20260703T180000
DTEND;TZID=America/Los_Angeles:20260703T210000
DTSTAMP:20260424T001619
CREATED:20260423T054317Z
LAST-MODIFIED:20260423T054317Z
UID:1558-1783101600-1783112400@www.jazzyjoshuas.com
SUMMARY:Tess Teel Side Hustle (Blues\, Swing\, Jazz & Mellow Rock)
DESCRIPTION:Click the band name on the splash page for a map with directions to Jazzy Joshua’s & a link to Tess Teel Music website where you will find additional information & audio/video links that showcase their great talent!
URL:https://www.jazzyjoshuas.com/event/tess-teel-side-hustle-blues-swing-jazz-mellow-rock-4/
LOCATION:Jazzy Joshua’s Restaurant & Lounge\, 113 Del Guzzi Dr\, Port Angeles\, WA\, 98362\, United States
CATEGORIES:Entertainment
ATTACH;FMTTYPE=image/jpeg:https://www.jazzyjoshuas.com/wp-content/uploads/2025/12/TESS-TEEL-SIDE-HUSTLE.jpg
END:VEVENT
BEGIN:VEVENT
DTSTART;VALUE=DATE:20260704
DTEND;VALUE=DATE:20260705
DTSTAMP:20260424T001619
CREATED:20260423T054446Z
LAST-MODIFIED:20260423T054446Z
UID:1560-1783123200-1783209599@www.jazzyjoshuas.com
SUMMARY:No Music Event-Enjoy Independence Day Festivities
DESCRIPTION:
URL:https://www.jazzyjoshuas.com/event/no-music-event-enjoy-independence-day-festivities/
LOCATION:Jazzy Joshua’s Restaurant & Lounge\, 113 Del Guzzi Dr\, Port Angeles\, WA\, 98362\, United States
CATEGORIES:Entertainment
END:VEVENT
BEGIN:VEVENT
DTSTART;TZID=America/Los_Angeles:20260710T180000
DTEND;TZID=America/Los_Angeles:20260710T210000
DTSTAMP:20260424T001619
CREATED:20260423T054553Z
LAST-MODIFIED:20260423T055057Z
UID:1562-1783706400-1783717200@www.jazzyjoshuas.com
SUMMARY:Renegade (Blues & Rock)
DESCRIPTION:Click the band name on the splash page for a map with directions to Jazzy Joshua’s & a link to Renegades website where you will find additional information & audio/video links that showcase their great talent!
URL:https://www.jazzyjoshuas.com/event/renegade-blues-rock-7/
LOCATION:Jazzy Joshua’s Restaurant & Lounge\, 113 Del Guzzi Dr\, Port Angeles\, WA\, 98362\, United States
CATEGORIES:Entertainment
ATTACH;FMTTYPE=image/jpeg:https://www.jazzyjoshuas.com/wp-content/uploads/2026/04/Renegade-Band-at-Jazzys.jpg
END:VEVENT
BEGIN:VEVENT
DTSTART;TZID=America/Los_Angeles:20260711T190000
DTEND;TZID=America/Los_Angeles:20260711T210000
DTSTAMP:20260424T001619
CREATED:20260423T055432Z
LAST-MODIFIED:20260423T055432Z
UID:1565-1783796400-1783803600@www.jazzyjoshuas.com
SUMMARY:Dawn & Steve Trio (Upbeat Pop & Rock)
DESCRIPTION:If you love listening to Dawn & Steve\, then you will love the extra energy when Russ Lowry from Sound Advice Band joins them on the drums.  All the same songs & fun with the extra kick for dancing! \nClick the band name on the splash page for a map with directions to Jazzy Joshua’s & a link to Dawn Martin Music website where you will find additional information & audio/video links that showcase their great talent!
URL:https://www.jazzyjoshuas.com/event/dawn-steve-trio-upbeat-pop-rock-3/
LOCATION:Jazzy Joshua’s Restaurant & Lounge\, 113 Del Guzzi Dr\, Port Angeles\, WA\, 98362\, United States
CATEGORIES:Entertainment
ATTACH;FMTTYPE=image/jpeg:https://www.jazzyjoshuas.com/wp-content/uploads/2026/04/DAWN-STEVE-TRIO.jpg
END:VEVENT
BEGIN:VEVENT
DTSTART;VALUE=DATE:20260717
DTEND;VALUE=DATE:20260718
DTSTAMP:20260424T001619
CREATED:20260423T055659Z
LAST-MODIFIED:20260423T055659Z
UID:1567-1784246400-1784332799@www.jazzyjoshuas.com
SUMMARY:No Music Event-Enjoy Lavenderfest
DESCRIPTION:
URL:https://www.jazzyjoshuas.com/event/no-music-event-enjoy-lavenderfest/
LOCATION:Jazzy Joshua’s Restaurant & Lounge\, 113 Del Guzzi Dr\, Port Angeles\, WA\, 98362\, United States
CATEGORIES:Entertainment
END:VEVENT
BEGIN:VEVENT
DTSTART;VALUE=DATE:20260718
DTEND;VALUE=DATE:20260719
DTSTAMP:20260424T001619
CREATED:20260423T055736Z
LAST-MODIFIED:20260423T055736Z
UID:1569-1784332800-1784419199@www.jazzyjoshuas.com
SUMMARY:No Music Event-Enjoy Lavenderfest
DESCRIPTION:
URL:https://www.jazzyjoshuas.com/event/no-music-event-enjoy-lavenderfest-2/
LOCATION:Jazzy Joshua’s Restaurant & Lounge\, 113 Del Guzzi Dr\, Port Angeles\, WA\, 98362\, United States
CATEGORIES:Entertainment
END:VEVENT
BEGIN:VEVENT
DTSTART;TZID=America/Los_Angeles:20260724T180000
DTEND;TZID=America/Los_Angeles:20260724T210000
DTSTAMP:20260424T001619
CREATED:20260423T055929Z
LAST-MODIFIED:20260423T055929Z
UID:1571-1784916000-1784926800@www.jazzyjoshuas.com
SUMMARY:Silver City 3 (Classic Rock)
DESCRIPTION:Click the band name on the splash page for a map with directions to Jazzy Joshua’s & a link to Silver City 3’s website where you will find additional information & audio/video links that showcase their great talent!
URL:https://www.jazzyjoshuas.com/event/silver-city-3-classic-rock-2/
LOCATION:Jazzy Joshua’s Restaurant & Lounge\, 113 Del Guzzi Dr\, Port Angeles\, WA\, 98362\, United States
CATEGORIES:Entertainment
ATTACH;FMTTYPE=image/jpeg:https://www.jazzyjoshuas.com/wp-content/uploads/2025/08/silver-city-4.jpg
END:VEVENT
BEGIN:VEVENT
DTSTART;TZID=America/Los_Angeles:20260725T190000
DTEND;TZID=America/Los_Angeles:20260725T210000
DTSTAMP:20260424T001619
CREATED:20260423T060035Z
LAST-MODIFIED:20260423T060035Z
UID:1573-1785006000-1785013200@www.jazzyjoshuas.com
SUMMARY:Buck Ellard Trio (High Energy Traditional Country)
DESCRIPTION:Click the band name on the splash page for a map with directions to Jazzy Joshua’s & a link to Buck Ellard Trio’s FB page where you will find additional information & audio/video links that showcase their great talent!
URL:https://www.jazzyjoshuas.com/event/buck-ellard-trio-high-energy-traditional-country-2/
LOCATION:Jazzy Joshua’s Restaurant & Lounge\, 113 Del Guzzi Dr\, Port Angeles\, WA\, 98362\, United States
CATEGORIES:Entertainment
ATTACH;FMTTYPE=image/jpeg:https://www.jazzyjoshuas.com/wp-content/uploads/2025/12/BUCK-ELLARD-TRIO-.jpg
END:VEVENT
BEGIN:VEVENT
DTSTART;TZID=America/Los_Angeles:20260731T190000
DTEND;TZID=America/Los_Angeles:20260731T210000
DTSTAMP:20260424T001619
CREATED:20260423T060154Z
LAST-MODIFIED:20260423T060154Z
UID:1575-1785524400-1785531600@www.jazzyjoshuas.com
SUMMARY:Orcastraitors Music Guild (Oldies & Classic Rock)
DESCRIPTION:
URL:https://www.jazzyjoshuas.com/event/orcastraitors-music-guild-oldies-classic-rock-4/
LOCATION:Jazzy Joshua’s Restaurant & Lounge\, 113 Del Guzzi Dr\, Port Angeles\, WA\, 98362\, United States
CATEGORIES:Entertainment
ATTACH;FMTTYPE=image/jpeg:https://www.jazzyjoshuas.com/wp-content/uploads/2025/03/ORCASTRAITORS.jpg
END:VEVENT
END:VCALENDAR