BEGIN:VCALENDAR
VERSION:2.0
PRODID:-//Jazzy Joshua&#039;s - ECPv6.15.17.1//NONSGML v1.0//EN
CALSCALE:GREGORIAN
METHOD:PUBLISH
X-WR-CALNAME:Jazzy Joshua&#039;s
X-ORIGINAL-URL:https://www.jazzyjoshuas.com
X-WR-CALDESC:Events for Jazzy Joshua&#039;s
REFRESH-INTERVAL;VALUE=DURATION:PT1H
X-Robots-Tag:noindex
X-PUBLISHED-TTL:PT1H
BEGIN:VTIMEZONE
TZID:America/Los_Angeles
BEGIN:DAYLIGHT
TZOFFSETFROM:-0800
TZOFFSETTO:-0700
TZNAME:PDT
DTSTART:20240310T100000
END:DAYLIGHT
BEGIN:STANDARD
TZOFFSETFROM:-0700
TZOFFSETTO:-0800
TZNAME:PST
DTSTART:20241103T090000
END:STANDARD
BEGIN:DAYLIGHT
TZOFFSETFROM:-0800
TZOFFSETTO:-0700
TZNAME:PDT
DTSTART:20250309T100000
END:DAYLIGHT
BEGIN:STANDARD
TZOFFSETFROM:-0700
TZOFFSETTO:-0800
TZNAME:PST
DTSTART:20251102T090000
END:STANDARD
BEGIN:DAYLIGHT
TZOFFSETFROM:-0800
TZOFFSETTO:-0700
TZNAME:PDT
DTSTART:20260308T100000
END:DAYLIGHT
BEGIN:STANDARD
TZOFFSETFROM:-0700
TZOFFSETTO:-0800
TZNAME:PST
DTSTART:20261101T090000
END:STANDARD
BEGIN:DAYLIGHT
TZOFFSETFROM:-0800
TZOFFSETTO:-0700
TZNAME:PDT
DTSTART:20270314T100000
END:DAYLIGHT
BEGIN:STANDARD
TZOFFSETFROM:-0700
TZOFFSETTO:-0800
TZNAME:PST
DTSTART:20271107T090000
END:STANDARD
END:VTIMEZONE
BEGIN:VEVENT
DTSTART;VALUE=DATE:20251206
DTEND;VALUE=DATE:20260329
DTSTAMP:20260423T214949
CREATED:20250902T072949Z
LAST-MODIFIED:20260310T135327Z
UID:1332-1764979200-1774742399@www.jazzyjoshuas.com
SUMMARY:Jazzy Joshua's Live Music-Thru 3-28-26
DESCRIPTION:  \n 
URL:https://www.jazzyjoshuas.com/event/jazzy-joshuas-music-event-flyer/
LOCATION:Jazzy Joshua’s Restaurant & Lounge\, 113 Del Guzzi Dr\, Port Angeles\, WA\, 98362\, United States
CATEGORIES:Entertainment
ATTACH;FMTTYPE=image/jpeg:https://www.jazzyjoshuas.com/wp-content/uploads/2025/09/Music-Events-3-10-26-thru-3-28-26.jpg
END:VEVENT
BEGIN:VEVENT
DTSTART;TZID=America/Los_Angeles:20260306T190000
DTEND;TZID=America/Los_Angeles:20260306T210000
DTSTAMP:20260423T214949
CREATED:20251212T113608Z
LAST-MODIFIED:20251212T113752Z
UID:1415-1772823600-1772830800@www.jazzyjoshuas.com
SUMMARY:Sentimental Journeys (Timeless Music 1920's to 1960's)
DESCRIPTION:Click the band name on the splash page for a map with directions to Jazzy Joshua’s & a link to The Sentimental Journeys website where you will find additional information & audio/video links that showcase their great talent!
URL:https://www.jazzyjoshuas.com/event/sentimental-journeys-timeless-music-1920s-to-1960s-2/
LOCATION:Jazzy Joshua’s Restaurant & Lounge\, 113 Del Guzzi Dr\, Port Angeles\, WA\, 98362\, United States
CATEGORIES:Entertainment
ATTACH;FMTTYPE=image/jpeg:https://www.jazzyjoshuas.com/wp-content/uploads/2025/08/sentimental-journeys.jpg
END:VEVENT
BEGIN:VEVENT
DTSTART;TZID=America/Los_Angeles:20260307T180000
DTEND;TZID=America/Los_Angeles:20260307T210000
DTSTAMP:20260423T214949
CREATED:20251212T113341Z
LAST-MODIFIED:20251212T113341Z
UID:1412-1772906400-1772917200@www.jazzyjoshuas.com
SUMMARY:Tess Teel Side Hustle (Blues\, Swing\, Jazz & Mellow Rock)
DESCRIPTION:Click the band name on the splash page for a map with directions to Jazzy Joshua’s & a link to Tess Teel Music website where you will find additional information & audio/video links that showcase their great talent!
URL:https://www.jazzyjoshuas.com/event/tess-teel-side-hustle-blues-swing-jazz-mellow-rock-2/
LOCATION:Jazzy Joshua’s Restaurant & Lounge\, 113 Del Guzzi Dr\, Port Angeles\, WA\, 98362\, United States
CATEGORIES:Entertainment
ATTACH;FMTTYPE=image/jpeg:https://www.jazzyjoshuas.com/wp-content/uploads/2025/12/TESS-TEEL-SIDE-HUSTLE.jpg
END:VEVENT
BEGIN:VEVENT
DTSTART;TZID=America/Los_Angeles:20260313T180000
DTEND;TZID=America/Los_Angeles:20260313T210000
DTSTAMP:20260423T214949
CREATED:20251212T112256Z
LAST-MODIFIED:20251212T112256Z
UID:1395-1773424800-1773435600@www.jazzyjoshuas.com
SUMMARY:Renegade (Blues & Rock)
DESCRIPTION:Click the band name on the splash page for a map with directions to Jazzy Joshua’s & a link to Renegades website where you will find additional information & audio/video links that showcase their great talent!
URL:https://www.jazzyjoshuas.com/event/renegade-blues-rock-4/
LOCATION:Jazzy Joshua’s Restaurant & Lounge\, 113 Del Guzzi Dr\, Port Angeles\, WA\, 98362\, United States
CATEGORIES:Entertainment
ATTACH;FMTTYPE=image/jpeg:https://www.jazzyjoshuas.com/wp-content/uploads/2025/08/renegade.jpg
END:VEVENT
BEGIN:VEVENT
DTSTART;TZID=America/Los_Angeles:20260314T180000
DTEND;TZID=America/Los_Angeles:20260314T210000
DTSTAMP:20260423T214949
CREATED:20251212T114700Z
LAST-MODIFIED:20260310T133854Z
UID:1419-1773511200-1773522000@www.jazzyjoshuas.com
SUMMARY:Cancelled due to medical issue (Key City Ramblers)
DESCRIPTION:Click the band name on the splash page for a map with directions to Jazzy Joshua’s & a link to Deadwood Revival’s website where you will find additional information & audio/video links that showcase their great talent!
URL:https://www.jazzyjoshuas.com/event/keycityramblers-com/
LOCATION:Jazzy Joshua’s Restaurant & Lounge\, 113 Del Guzzi Dr\, Port Angeles\, WA\, 98362\, United States
CATEGORIES:Entertainment
ATTACH;FMTTYPE=image/jpeg:https://www.jazzyjoshuas.com/wp-content/uploads/2025/12/KEY-CITY-RAMBLERS.jpg
END:VEVENT
BEGIN:VEVENT
DTSTART;TZID=America/Los_Angeles:20260317T090000
DTEND;TZID=America/Los_Angeles:20260317T210000
DTSTAMP:20260423T214949
CREATED:20260310T135716Z
LAST-MODIFIED:20260310T135716Z
UID:1468-1773738000-1773781200@www.jazzyjoshuas.com
SUMMARY:Saint Patrick's Day
DESCRIPTION:
URL:https://www.jazzyjoshuas.com/event/saint-patricks-day/
LOCATION:Jazzy Joshua’s Restaurant & Lounge\, 113 Del Guzzi Dr\, Port Angeles\, WA\, 98362\, United States
CATEGORIES:All,Entertainment
ATTACH;FMTTYPE=image/jpeg:https://www.jazzyjoshuas.com/wp-content/uploads/2026/03/St-Patricks-Day-2026.jpg
END:VEVENT
BEGIN:VEVENT
DTSTART;TZID=America/Los_Angeles:20260320T190000
DTEND;TZID=America/Los_Angeles:20260320T210000
DTSTAMP:20260423T214949
CREATED:20251212T113500Z
LAST-MODIFIED:20251212T113500Z
UID:1374-1774033200-1774040400@www.jazzyjoshuas.com
SUMMARY:Orcastraitors Music Guild (Oldies & Classic Rock)
DESCRIPTION:
URL:https://www.jazzyjoshuas.com/event/orcastraitors-music-guild-oldies-classic-rock-2/
LOCATION:Jazzy Joshua’s Restaurant & Lounge\, 113 Del Guzzi Dr\, Port Angeles\, WA\, 98362\, United States
CATEGORIES:Entertainment
ATTACH;FMTTYPE=image/jpeg:https://www.jazzyjoshuas.com/wp-content/uploads/2025/03/ORCASTRAITORS.jpg
END:VEVENT
BEGIN:VEVENT
DTSTART;TZID=America/Los_Angeles:20260321T180000
DTEND;TZID=America/Los_Angeles:20260321T210000
DTSTAMP:20260423T214949
CREATED:20251212T112334Z
LAST-MODIFIED:20251212T112402Z
UID:1397-1774116000-1774126800@www.jazzyjoshuas.com
SUMMARY:Silver City 4 (Classic Rock)
DESCRIPTION:Click the band name on the splash page for a map with directions to Jazzy Joshua’s & a link to Silver City 4’s website where you will find additional information & audio/video links that showcase their great talent!
URL:https://www.jazzyjoshuas.com/event/silver-city-4-classic-rock-5/
LOCATION:Jazzy Joshua’s Restaurant & Lounge\, 113 Del Guzzi Dr\, Port Angeles\, WA\, 98362\, United States
CATEGORIES:Entertainment
ATTACH;FMTTYPE=image/jpeg:https://www.jazzyjoshuas.com/wp-content/uploads/2025/08/silver-city-4.jpg
END:VEVENT
BEGIN:VEVENT
DTSTART;TZID=America/Los_Angeles:20260327T190000
DTEND;TZID=America/Los_Angeles:20260327T210000
DTSTAMP:20260423T214949
CREATED:20251212T112822Z
LAST-MODIFIED:20251212T112822Z
UID:1405-1774638000-1774645200@www.jazzyjoshuas.com
SUMMARY:Deadwood Revival (Bluegrass & Folk)
DESCRIPTION:Click the band name on the splash page for a map with directions to Jazzy Joshua’s & a link to Deadwood Revival’s website where you will find additional information & audio/video links that showcase their great talent!
URL:https://www.jazzyjoshuas.com/event/deadwood-revival-bluegrass-folk-2/
LOCATION:Jazzy Joshua’s Restaurant & Lounge\, 113 Del Guzzi Dr\, Port Angeles\, WA\, 98362\, United States
CATEGORIES:Entertainment
ATTACH;FMTTYPE=image/png:https://www.jazzyjoshuas.com/wp-content/uploads/2024/12/DWG.png
END:VEVENT
BEGIN:VEVENT
DTSTART;TZID=America/Los_Angeles:20260328T190000
DTEND;TZID=America/Los_Angeles:20260328T210000
DTSTAMP:20260423T214949
CREATED:20251216T214853Z
LAST-MODIFIED:20260109T224405Z
UID:1429-1774724400-1774731600@www.jazzyjoshuas.com
SUMMARY:Buck Ellard Trio (High Energy Traditional Country)
DESCRIPTION:Click the band name on the splash page for a map with directions to Jazzy Joshua’s & a link to Locomotive Breath’s FB page where you will find additional information & audio/video links that showcase their great talent!
URL:https://www.jazzyjoshuas.com/event/locomotive-breath-tribute-to-jethro-tull/
LOCATION:Jazzy Joshua’s Restaurant & Lounge\, 113 Del Guzzi Dr\, Port Angeles\, WA\, 98362\, United States
CATEGORIES:Entertainment
ATTACH;FMTTYPE=image/jpeg:https://www.jazzyjoshuas.com/wp-content/uploads/2025/12/BUCK-ELLARD-TRIO-.jpg
END:VEVENT
END:VCALENDAR