BEGIN:VCALENDAR
VERSION:2.0
PRODID:-//Jazzy Joshua&#039;s - ECPv6.15.17.1//NONSGML v1.0//EN
CALSCALE:GREGORIAN
METHOD:PUBLISH
X-ORIGINAL-URL:https://www.jazzyjoshuas.com
X-WR-CALDESC:Events for Jazzy Joshua&#039;s
REFRESH-INTERVAL;VALUE=DURATION:PT1H
X-Robots-Tag:noindex
X-PUBLISHED-TTL:PT1H
BEGIN:VTIMEZONE
TZID:America/Los_Angeles
BEGIN:DAYLIGHT
TZOFFSETFROM:-0800
TZOFFSETTO:-0700
TZNAME:PDT
DTSTART:20240310T100000
END:DAYLIGHT
BEGIN:STANDARD
TZOFFSETFROM:-0700
TZOFFSETTO:-0800
TZNAME:PST
DTSTART:20241103T090000
END:STANDARD
BEGIN:DAYLIGHT
TZOFFSETFROM:-0800
TZOFFSETTO:-0700
TZNAME:PDT
DTSTART:20250309T100000
END:DAYLIGHT
BEGIN:STANDARD
TZOFFSETFROM:-0700
TZOFFSETTO:-0800
TZNAME:PST
DTSTART:20251102T090000
END:STANDARD
BEGIN:DAYLIGHT
TZOFFSETFROM:-0800
TZOFFSETTO:-0700
TZNAME:PDT
DTSTART:20260308T100000
END:DAYLIGHT
BEGIN:STANDARD
TZOFFSETFROM:-0700
TZOFFSETTO:-0800
TZNAME:PST
DTSTART:20261101T090000
END:STANDARD
BEGIN:DAYLIGHT
TZOFFSETFROM:-0800
TZOFFSETTO:-0700
TZNAME:PDT
DTSTART:20270314T100000
END:DAYLIGHT
BEGIN:STANDARD
TZOFFSETFROM:-0700
TZOFFSETTO:-0800
TZNAME:PST
DTSTART:20271107T090000
END:STANDARD
END:VTIMEZONE
BEGIN:VEVENT
DTSTART;VALUE=DATE:20251206
DTEND;VALUE=DATE:20260329
DTSTAMP:20260424T004805
CREATED:20250902T072949Z
LAST-MODIFIED:20260310T135327Z
UID:1332-1764979200-1774742399@www.jazzyjoshuas.com
SUMMARY:Jazzy Joshua's Live Music-Thru 3-28-26
DESCRIPTION:  \n 
URL:https://www.jazzyjoshuas.com/event/jazzy-joshuas-music-event-flyer/
LOCATION:Jazzy Joshua’s Restaurant & Lounge\, 113 Del Guzzi Dr\, Port Angeles\, WA\, 98362\, United States
CATEGORIES:Entertainment
ATTACH;FMTTYPE=image/jpeg:https://www.jazzyjoshuas.com/wp-content/uploads/2025/09/Music-Events-3-10-26-thru-3-28-26.jpg
END:VEVENT
BEGIN:VEVENT
DTSTART;TZID=America/Los_Angeles:20260206T190000
DTEND;TZID=America/Los_Angeles:20260206T210000
DTSTAMP:20260424T004805
CREATED:20251212T121750Z
LAST-MODIFIED:20251212T121750Z
UID:1404-1770404400-1770411600@www.jazzyjoshuas.com
SUMMARY:Deadwood Revival (Bluegrass & Folk)
DESCRIPTION:Click the band name on the splash page for a map with directions to Jazzy Joshua’s & a link to Deadwood Revival’s website where you will find additional information & audio/video links that showcase their great talent!
URL:https://www.jazzyjoshuas.com/event/deadwood-revival-bluegrass-folk-3/
LOCATION:Jazzy Joshua’s Restaurant & Lounge\, 113 Del Guzzi Dr\, Port Angeles\, WA\, 98362\, United States
CATEGORIES:Entertainment
ATTACH;FMTTYPE=image/png:https://www.jazzyjoshuas.com/wp-content/uploads/2024/12/DWG.png
END:VEVENT
BEGIN:VEVENT
DTSTART;TZID=America/Los_Angeles:20260207T190000
DTEND;TZID=America/Los_Angeles:20260207T210000
DTSTAMP:20260424T004806
CREATED:20251212T112501Z
LAST-MODIFIED:20251212T112501Z
UID:1399-1770490800-1770498000@www.jazzyjoshuas.com
SUMMARY:Connor Forsyth Jazz Trio
DESCRIPTION:Click the band name on the splash page for a map with directions to Jazzy Joshua’s & a link to Connor Forsyth’s website where you will find additional information & audio/video links that showcase his great talent!
URL:https://www.jazzyjoshuas.com/event/connor-forsyth-jazz-trio-3/
LOCATION:Jazzy Joshua’s Restaurant & Lounge\, 113 Del Guzzi Dr\, Port Angeles\, WA\, 98362\, United States
CATEGORIES:All,Entertainment
ATTACH;FMTTYPE=image/jpeg:https://www.jazzyjoshuas.com/wp-content/uploads/2025/08/connor-forsyth.jpg
END:VEVENT
BEGIN:VEVENT
DTSTART;TZID=America/Los_Angeles:20260213T180000
DTEND;TZID=America/Los_Angeles:20260213T210000
DTSTAMP:20260424T004806
CREATED:20251212T112213Z
LAST-MODIFIED:20251212T112213Z
UID:1393-1771005600-1771016400@www.jazzyjoshuas.com
SUMMARY:Renegade (Blues & Rock)
DESCRIPTION:Click the band name on the splash page for a map with directions to Jazzy Joshua’s & a link to Renegades website where you will find additional information & audio/video links that showcase their great talent!
URL:https://www.jazzyjoshuas.com/event/renegade-blues-rock-3/
LOCATION:Jazzy Joshua’s Restaurant & Lounge\, 113 Del Guzzi Dr\, Port Angeles\, WA\, 98362\, United States
CATEGORIES:Entertainment
ATTACH;FMTTYPE=image/jpeg:https://www.jazzyjoshuas.com/wp-content/uploads/2025/08/renegade.jpg
END:VEVENT
BEGIN:VEVENT
DTSTART;TZID=America/Los_Angeles:20260214T090000
DTEND;TZID=America/Los_Angeles:20260214T210000
DTSTAMP:20260424T004806
CREATED:20260212T034332Z
LAST-MODIFIED:20260212T034709Z
UID:1457-1771059600-1771102800@www.jazzyjoshuas.com
SUMMARY:Valentines Day - Full Menu\, Specials & Live Music!
DESCRIPTION:Pasta is always a FAV\, but for those who are hankering for PRIME RIB\, STEAK or SEAFOOD\, we’ve got you covered! FULL MENU offerings for all budgets & appetites\, ALL DAY LONG! Breakfast Menu 9am-1pm\, Lunch/Dinner Menu 11am-9pm or for $75.00\, enjoy a meal for TWO with our Three Course Valentines Day Special\, 11am-9pm! \n 
URL:https://www.jazzyjoshuas.com/event/valentines-day-2/
LOCATION:Jazzy Joshua’s Restaurant & Lounge\, 113 Del Guzzi Dr\, Port Angeles\, WA\, 98362\, United States
CATEGORIES:All,Entertainment
ATTACH;FMTTYPE=image/jpeg:https://www.jazzyjoshuas.com/wp-content/uploads/2026/02/Valentines-Day-Menu-2026.jpg
END:VEVENT
BEGIN:VEVENT
DTSTART;TZID=America/Los_Angeles:20260214T190000
DTEND;TZID=America/Los_Angeles:20260214T210000
DTSTAMP:20260424T004806
CREATED:20251212T113125Z
LAST-MODIFIED:20251212T113125Z
UID:1408-1771095600-1771102800@www.jazzyjoshuas.com
SUMMARY:Chris Moon Jazz Trio
DESCRIPTION:Click the band name on the splash page for a map with directions to Jazzy Joshua’s & a link to Christine Moon’s website where you will find additional information & audio/video links that showcase his great talent! \n 
URL:https://www.jazzyjoshuas.com/event/chris-moon-jazz-trio-2/
LOCATION:Jazzy Joshua’s Restaurant & Lounge\, 113 Del Guzzi Dr\, Port Angeles\, WA\, 98362\, United States
CATEGORIES:All,Entertainment
ATTACH;FMTTYPE=image/jpeg:https://www.jazzyjoshuas.com/wp-content/uploads/2025/08/chris-moon.jpg
END:VEVENT
BEGIN:VEVENT
DTSTART;TZID=America/Los_Angeles:20260220T180000
DTEND;TZID=America/Los_Angeles:20260220T210000
DTSTAMP:20260424T004806
CREATED:20251212T112054Z
LAST-MODIFIED:20251212T112106Z
UID:1391-1771610400-1771621200@www.jazzyjoshuas.com
SUMMARY:Silver City 4 (Classic Rock)
DESCRIPTION:Click the band name on the splash page for a map with directions to Jazzy Joshua’s & a link to Silver City 4’s website where you will find additional information & audio/video links that showcase their great talent!
URL:https://www.jazzyjoshuas.com/event/silver-city-4-classic-rock-4/
LOCATION:Jazzy Joshua’s Restaurant & Lounge\, 113 Del Guzzi Dr\, Port Angeles\, WA\, 98362\, United States
CATEGORIES:Entertainment
ATTACH;FMTTYPE=image/jpeg:https://www.jazzyjoshuas.com/wp-content/uploads/2025/08/silver-city-4.jpg
END:VEVENT
BEGIN:VEVENT
DTSTART;TZID=America/Los_Angeles:20260221T190000
DTEND;TZID=America/Los_Angeles:20260221T210000
DTSTAMP:20260424T004806
CREATED:20251212T114123Z
LAST-MODIFIED:20251212T114350Z
UID:1417-1771700400-1771707600@www.jazzyjoshuas.com
SUMMARY:Buhler\, Harris\, & Enderle (Upbeat Rock\, Blues & Jazz Trio
DESCRIPTION:
URL:https://www.jazzyjoshuas.com/event/buhler-harris-enderle-upbeat-rock-blues-jazz-trio/
LOCATION:Jazzy Joshua’s Restaurant & Lounge\, 113 Del Guzzi Dr\, Port Angeles\, WA\, 98362\, United States
CATEGORIES:Entertainment
ATTACH;FMTTYPE=image/jpeg:https://www.jazzyjoshuas.com/wp-content/uploads/2025/08/upbeat-jazz.jpg
END:VEVENT
BEGIN:VEVENT
DTSTART;TZID=America/Los_Angeles:20260227T190000
DTEND;TZID=America/Los_Angeles:20260227T210000
DTSTAMP:20260424T004806
CREATED:20251212T113241Z
LAST-MODIFIED:20260115T101044Z
UID:1410-1772218800-1772226000@www.jazzyjoshuas.com
SUMMARY:No Music Event tonight
DESCRIPTION:
URL:https://www.jazzyjoshuas.com/event/no-music-event-tonight/
LOCATION:Jazzy Joshua’s Restaurant & Lounge\, 113 Del Guzzi Dr\, Port Angeles\, WA\, 98362\, United States
CATEGORIES:Entertainment
END:VEVENT
BEGIN:VEVENT
DTSTART;TZID=America/Los_Angeles:20260228T190000
DTEND;TZID=America/Los_Angeles:20260228T210000
DTSTAMP:20260424T004806
CREATED:20251212T110358Z
LAST-MODIFIED:20251212T110403Z
UID:1382-1772305200-1772312400@www.jazzyjoshuas.com
SUMMARY:Dawn & Steve from Dawn Martin Music (Upbeat Pop & Rock)
DESCRIPTION:Click the band name on the splash page for a map with directions to Jazzy Joshua’s & a link to Dawn Martin Music website where you will find additional information & audio/video links that showcase their great talent!
URL:https://www.jazzyjoshuas.com/event/dawn-steve-from-dawn-martin-music-upbeat-pop-rock-6/
LOCATION:Jazzy Joshua’s Restaurant & Lounge\, 113 Del Guzzi Dr\, Port Angeles\, WA\, 98362\, United States
CATEGORIES:Entertainment
ATTACH;FMTTYPE=image/png:https://www.jazzyjoshuas.com/wp-content/uploads/2024/07/Steve_20_26_20Dawn_20Promo_20head_20shot.png
END:VEVENT
END:VCALENDAR