BEGIN:VCALENDAR
VERSION:2.0
PRODID:-//Jazzy Joshua&#039;s - ECPv6.15.17.1//NONSGML v1.0//EN
CALSCALE:GREGORIAN
METHOD:PUBLISH
X-WR-CALNAME:Jazzy Joshua&#039;s
X-ORIGINAL-URL:https://www.jazzyjoshuas.com
X-WR-CALDESC:Events for Jazzy Joshua&#039;s
REFRESH-INTERVAL;VALUE=DURATION:PT1H
X-Robots-Tag:noindex
X-PUBLISHED-TTL:PT1H
BEGIN:VTIMEZONE
TZID:UTC
BEGIN:STANDARD
TZOFFSETFROM:+0000
TZOFFSETTO:+0000
TZNAME:UTC
DTSTART:20230101T000000
END:STANDARD
END:VTIMEZONE
BEGIN:VEVENT
DTSTART;TZID=UTC:20240719T190000
DTEND;TZID=UTC:20240719T220000
DTSTAMP:20260421T071450
CREATED:20240717T001816Z
LAST-MODIFIED:20241122T192131Z
UID:707-1721415600-1721426400@www.jazzyjoshuas.com
SUMMARY:The Two Horsemen
DESCRIPTION:Southern Country & Classic Rock
URL:https://www.jazzyjoshuas.com/event/the-two-horsemen/
CATEGORIES:All,Entertainment
ATTACH;FMTTYPE=image/jpeg:https://www.jazzyjoshuas.com/wp-content/uploads/2024/07/Horsemen-Poster.jpg
END:VEVENT
END:VCALENDAR