BEGIN:VCALENDAR
VERSION:2.0
PRODID:-//Jazzy Joshua&#039;s - ECPv6.15.17.1//NONSGML v1.0//EN
CALSCALE:GREGORIAN
METHOD:PUBLISH
X-ORIGINAL-URL:https://www.jazzyjoshuas.com
X-WR-CALDESC:Events for Jazzy Joshua&#039;s
REFRESH-INTERVAL;VALUE=DURATION:PT1H
X-Robots-Tag:noindex
X-PUBLISHED-TTL:PT1H
BEGIN:VTIMEZONE
TZID:America/Los_Angeles
BEGIN:DAYLIGHT
TZOFFSETFROM:-0800
TZOFFSETTO:-0700
TZNAME:PDT
DTSTART:20250309T100000
END:DAYLIGHT
BEGIN:STANDARD
TZOFFSETFROM:-0700
TZOFFSETTO:-0800
TZNAME:PST
DTSTART:20251102T090000
END:STANDARD
BEGIN:DAYLIGHT
TZOFFSETFROM:-0800
TZOFFSETTO:-0700
TZNAME:PDT
DTSTART:20260308T100000
END:DAYLIGHT
BEGIN:STANDARD
TZOFFSETFROM:-0700
TZOFFSETTO:-0800
TZNAME:PST
DTSTART:20261101T090000
END:STANDARD
BEGIN:DAYLIGHT
TZOFFSETFROM:-0800
TZOFFSETTO:-0700
TZNAME:PDT
DTSTART:20270314T100000
END:DAYLIGHT
BEGIN:STANDARD
TZOFFSETFROM:-0700
TZOFFSETTO:-0800
TZNAME:PST
DTSTART:20271107T090000
END:STANDARD
END:VTIMEZONE
BEGIN:VEVENT
DTSTART;TZID=America/Los_Angeles:20260724T180000
DTEND;TZID=America/Los_Angeles:20260724T210000
DTSTAMP:20260423T092146
CREATED:20260423T055929Z
LAST-MODIFIED:20260423T055929Z
UID:1571-1784916000-1784926800@www.jazzyjoshuas.com
SUMMARY:Silver City 3 (Classic Rock)
DESCRIPTION:Click the band name on the splash page for a map with directions to Jazzy Joshua’s & a link to Silver City 3’s website where you will find additional information & audio/video links that showcase their great talent!
URL:https://www.jazzyjoshuas.com/event/silver-city-3-classic-rock-2/
LOCATION:Jazzy Joshua’s Restaurant & Lounge\, 113 Del Guzzi Dr\, Port Angeles\, WA\, 98362\, United States
CATEGORIES:Entertainment
ATTACH;FMTTYPE=image/jpeg:https://www.jazzyjoshuas.com/wp-content/uploads/2025/08/silver-city-4.jpg
END:VEVENT
BEGIN:VEVENT
DTSTART;TZID=America/Los_Angeles:20260725T190000
DTEND;TZID=America/Los_Angeles:20260725T210000
DTSTAMP:20260423T092146
CREATED:20260423T060035Z
LAST-MODIFIED:20260423T060035Z
UID:1573-1785006000-1785013200@www.jazzyjoshuas.com
SUMMARY:Buck Ellard Trio (High Energy Traditional Country)
DESCRIPTION:Click the band name on the splash page for a map with directions to Jazzy Joshua’s & a link to Buck Ellard Trio’s FB page where you will find additional information & audio/video links that showcase their great talent!
URL:https://www.jazzyjoshuas.com/event/buck-ellard-trio-high-energy-traditional-country-2/
LOCATION:Jazzy Joshua’s Restaurant & Lounge\, 113 Del Guzzi Dr\, Port Angeles\, WA\, 98362\, United States
CATEGORIES:Entertainment
ATTACH;FMTTYPE=image/jpeg:https://www.jazzyjoshuas.com/wp-content/uploads/2025/12/BUCK-ELLARD-TRIO-.jpg
END:VEVENT
BEGIN:VEVENT
DTSTART;TZID=America/Los_Angeles:20260731T190000
DTEND;TZID=America/Los_Angeles:20260731T210000
DTSTAMP:20260423T092146
CREATED:20260423T060154Z
LAST-MODIFIED:20260423T060154Z
UID:1575-1785524400-1785531600@www.jazzyjoshuas.com
SUMMARY:Orcastraitors Music Guild (Oldies & Classic Rock)
DESCRIPTION:
URL:https://www.jazzyjoshuas.com/event/orcastraitors-music-guild-oldies-classic-rock-4/
LOCATION:Jazzy Joshua’s Restaurant & Lounge\, 113 Del Guzzi Dr\, Port Angeles\, WA\, 98362\, United States
CATEGORIES:Entertainment
ATTACH;FMTTYPE=image/jpeg:https://www.jazzyjoshuas.com/wp-content/uploads/2025/03/ORCASTRAITORS.jpg
END:VEVENT
BEGIN:VEVENT
DTSTART;TZID=America/Los_Angeles:20260801T190000
DTEND;TZID=America/Los_Angeles:20260801T210000
DTSTAMP:20260423T092146
CREATED:20260423T060839Z
LAST-MODIFIED:20260423T061620Z
UID:1577-1785610800-1785618000@www.jazzyjoshuas.com
SUMMARY:Whump (PNW Jam Funk)
DESCRIPTION:Whump. brings a seamless blend of Funk\, Jazz\, Fusion and more in their fun and fresh original music! Combined with their own funky take on familiar covers from many genres\, and you get a fun night of dancing and musical playfulness 🎶🔥 \nClick the band name on the splash page for a map with directions to Jazzy Joshua’s & a link to Whumps website where you will find additional information & audio/video links that showcase their great talent!
URL:https://www.jazzyjoshuas.com/event/whumptheband-com/
LOCATION:Jazzy Joshua’s Restaurant & Lounge\, 113 Del Guzzi Dr\, Port Angeles\, WA\, 98362\, United States
CATEGORIES:Entertainment
ATTACH;FMTTYPE=image/jpeg:https://www.jazzyjoshuas.com/wp-content/uploads/2026/04/Whump-Band.jpg
END:VEVENT
BEGIN:VEVENT
DTSTART;TZID=America/Los_Angeles:20260807T190000
DTEND;TZID=America/Los_Angeles:20260807T210000
DTSTAMP:20260423T092146
CREATED:20260423T153954Z
LAST-MODIFIED:20260423T153954Z
UID:1581-1786129200-1786136400@www.jazzyjoshuas.com
SUMMARY:Bread & Gravy
DESCRIPTION:
URL:https://www.jazzyjoshuas.com/event/bread-gravy-8/
CATEGORIES:Entertainment
ATTACH;FMTTYPE=image/jpeg:https://www.jazzyjoshuas.com/wp-content/uploads/2024/07/21740889_1644230572263236_851320856862627652_o.jpg
END:VEVENT
BEGIN:VEVENT
DTSTART;TZID=America/Los_Angeles:20260808T190000
DTEND;TZID=America/Los_Angeles:20260808T210000
DTSTAMP:20260423T092146
CREATED:20260423T154113Z
LAST-MODIFIED:20260423T154113Z
UID:1583-1786215600-1786222800@www.jazzyjoshuas.com
SUMMARY:Dawn & Steve Trio (Upbeat Pop & Rock)
DESCRIPTION:If you love listening to Dawn & Steve\, then you will love the extra energy when Russ Lowry from Sound Advice Band joins them on the drums.  All the same songs & fun with the extra kick for dancing! \nClick the band name on the splash page for a map with directions to Jazzy Joshua’s & a link to Dawn Martin Music website where you will find additional information & audio/video links that showcase their great talent!
URL:https://www.jazzyjoshuas.com/event/dawn-steve-trio-upbeat-pop-rock-4/
LOCATION:Jazzy Joshua’s Restaurant & Lounge\, 113 Del Guzzi Dr\, Port Angeles\, WA\, 98362\, United States
CATEGORIES:Entertainment
ATTACH;FMTTYPE=image/jpeg:https://www.jazzyjoshuas.com/wp-content/uploads/2026/04/DAWN-STEVE-TRIO.jpg
END:VEVENT
BEGIN:VEVENT
DTSTART;TZID=America/Los_Angeles:20260814T180000
DTEND;TZID=America/Los_Angeles:20260814T210000
DTSTAMP:20260423T092146
CREATED:20260423T154205Z
LAST-MODIFIED:20260423T154205Z
UID:1585-1786730400-1786741200@www.jazzyjoshuas.com
SUMMARY:Renegade (Blues & Rock)
DESCRIPTION:Click the band name on the splash page for a map with directions to Jazzy Joshua’s & a link to Renegades website where you will find additional information & audio/video links that showcase their great talent!
URL:https://www.jazzyjoshuas.com/event/renegade-blues-rock-8/
LOCATION:Jazzy Joshua’s Restaurant & Lounge\, 113 Del Guzzi Dr\, Port Angeles\, WA\, 98362\, United States
CATEGORIES:Entertainment
ATTACH;FMTTYPE=image/jpeg:https://www.jazzyjoshuas.com/wp-content/uploads/2026/04/Renegade-Band-at-Jazzys.jpg
END:VEVENT
BEGIN:VEVENT
DTSTART;VALUE=DATE:20260815
DTEND;VALUE=DATE:20260816
DTSTAMP:20260423T092146
CREATED:20260423T154456Z
LAST-MODIFIED:20260423T154456Z
UID:1587-1786752000-1786838399@www.jazzyjoshuas.com
SUMMARY:No Music Event-Soundman Not Available
DESCRIPTION:
URL:https://www.jazzyjoshuas.com/event/no-music-event-soundman-not-available-3/
LOCATION:Jazzy Joshua’s Restaurant & Lounge\, 113 Del Guzzi Dr\, Port Angeles\, WA\, 98362\, United States
CATEGORIES:Entertainment
END:VEVENT
BEGIN:VEVENT
DTSTART;VALUE=DATE:20260821
DTEND;VALUE=DATE:20260822
DTSTAMP:20260423T092146
CREATED:20260423T154604Z
LAST-MODIFIED:20260423T154604Z
UID:1589-1787270400-1787356799@www.jazzyjoshuas.com
SUMMARY:No Music Event-Enjoy Clallam County Fair
DESCRIPTION:
URL:https://www.jazzyjoshuas.com/event/no-music-event-enjoy-clallam-county-fair/
LOCATION:Jazzy Joshua’s Restaurant & Lounge\, 113 Del Guzzi Dr\, Port Angeles\, WA\, 98362\, United States
CATEGORIES:Entertainment
END:VEVENT
BEGIN:VEVENT
DTSTART;VALUE=DATE:20260822
DTEND;VALUE=DATE:20260823
DTSTAMP:20260423T092146
CREATED:20260423T154640Z
LAST-MODIFIED:20260423T154640Z
UID:1591-1787356800-1787443199@www.jazzyjoshuas.com
SUMMARY:No Music Event-Enjoy Clallam County Fair
DESCRIPTION:
URL:https://www.jazzyjoshuas.com/event/no-music-event-enjoy-clallam-county-fair-2/
LOCATION:Jazzy Joshua’s Restaurant & Lounge\, 113 Del Guzzi Dr\, Port Angeles\, WA\, 98362\, United States
CATEGORIES:Entertainment
END:VEVENT
BEGIN:VEVENT
DTSTART;TZID=America/Los_Angeles:20260828T190000
DTEND;TZID=America/Los_Angeles:20260828T210000
DTSTAMP:20260423T092146
CREATED:20260423T154820Z
LAST-MODIFIED:20260423T154820Z
UID:1593-1787943600-1787950800@www.jazzyjoshuas.com
SUMMARY:Sentimental Journeys (Timeless Music 1920's to 1960's)
DESCRIPTION:Click the band name on the splash page for a map with directions to Jazzy Joshua’s & a link to The Sentimental Journeys website where you will find additional information & audio/video links that showcase their great talent!
URL:https://www.jazzyjoshuas.com/event/sentimental-journeys-timeless-music-1920s-to-1960s-3/
LOCATION:Jazzy Joshua’s Restaurant & Lounge\, 113 Del Guzzi Dr\, Port Angeles\, WA\, 98362\, United States
CATEGORIES:Entertainment
ATTACH;FMTTYPE=image/jpeg:https://www.jazzyjoshuas.com/wp-content/uploads/2025/08/sentimental-journeys.jpg
END:VEVENT
BEGIN:VEVENT
DTSTART;TZID=America/Los_Angeles:20260829T190000
DTEND;TZID=America/Los_Angeles:20260829T210000
DTSTAMP:20260423T092146
CREATED:20260423T154923Z
LAST-MODIFIED:20260423T154923Z
UID:1595-1788030000-1788037200@www.jazzyjoshuas.com
SUMMARY:Buck Ellard Trio (High Energy Traditional Country)
DESCRIPTION:Click the band name on the splash page for a map with directions to Jazzy Joshua’s & a link to Buck Ellard Trio’s FB page where you will find additional information & audio/video links that showcase their great talent!
URL:https://www.jazzyjoshuas.com/event/buck-ellard-trio-high-energy-traditional-country-3/
LOCATION:Jazzy Joshua’s Restaurant & Lounge\, 113 Del Guzzi Dr\, Port Angeles\, WA\, 98362\, United States
CATEGORIES:Entertainment
ATTACH;FMTTYPE=image/jpeg:https://www.jazzyjoshuas.com/wp-content/uploads/2025/12/BUCK-ELLARD-TRIO-.jpg
END:VEVENT
END:VCALENDAR